BEGIN:VCALENDAR
VERSION:2.0
PRODID:
BEGIN:VEVENT
UID:594078is
DTSTAMP:20260426T031304Z
DTSTART:20260519T193000Z
DTEND:20260519T223000Z
LOCATION: Merrill Lynch (Rockledge\, 32955)
SUMMARY: Brevard Chapter: Florida Sales and Use Tax & More
DESCRIPTION: \nFlorida Sales and Use TaxCredit(s) and Type: 2 Technical BusinessSpeaker Name(s): James Sutton CPA Esq\n \nThis course provides CPAs with a practical understanding of Florida sales and use tax\, focusing on real-world compliance challenges\, audit risks\, and emerging legislative changes. It highlights common pitfalls businesses face\, including nexus exposure\, improper exemption documentation\, and frequently missed taxable transactions. Attendees will learn how to identify and mitigate risk areas\, as well as strategies for correcting past errors through voluntary disclosure agreements. The session also offers insight into current enforcement trends and how they impact various industries. Overall\, the course is designed to help practitioners better advise clients and navigate Florida’s complex sales tax environment. \n  \n \n  \nTo Be DeterminedCredit(s) and Type: 1 Technical BusinessSpeaker Name(s): Randy Coleman \n  \n \n  \nRegistration Cost Members: $45 Non-Member: $70\n  \nVariety of meals from Panera Bread will be offered\n \n \n  \nChapter Registration Contact Name: Allison VicoryEmail: <a><a></a></a><a href="mailto:avicroy21@gmail.com">avicroy21@gmail.com</a>   Register OnlineClick "Add to Cart" button below. \n  \n\nRegister by PhoneCall Member Services at (800) 342-3197\n \nRegister By Mail\n  \n\nMail your reservation payment to:Florida Institute of CPAs 250 South Orange Avenue\, Suite 300POrlando\, FL 32809Please make checks payable to: Florida Institute of CPAs\nInclude with payment: Event Name: Name: Member Number: Firm:Meal Choice (if applicable)\n\n\n
CLASS:PUBLIC
END:VEVENT
END:VCALENDAR
