BEGIN:VCALENDAR
VERSION:2.0
PRODID:
BEGIN:VEVENT
UID:594077kak
DTSTAMP:20260423T053715Z
DTSTART:20261109T140000Z
DTEND:20261109T153000Z
SUMMARY: GASB Update Deep Dive: Mastering Statements No. 103 & 104
DESCRIPTION: *** Save 15% on this event when you use the code SAVE15 at checkout ***\n  \nStay ahead of evolving governmental accounting standards with this high-impact update designed for Florida CPAs. Led by GASB expert Lisa Parker\, this course goes beyond the basics to unpack the practical implications of GASB Statements No. 103 (Financial Reporting Model Improvements) and No. 104 (Disclosure of Certain Capital Assets). Gain clarity on presentation changes\, note disclosures\, and how these updates affect financial reporting for state and local governments. Through real-world examples and implementation insights\, you’ll leave prepared to apply the standards with confidence and avoid common pitfalls\n 
CLASS:PUBLIC
END:VEVENT
END:VCALENDAR
