BEGIN:VCALENDAR
VERSION:2.0
PRODID:
BEGIN:VEVENT
UID:594075is
DTSTAMP:20260421T164427Z
DTSTART:20260513T130000Z
DTEND:20260513T144500Z
LOCATION: J.P. Morgan Private Bank (Fort Lauderdale\, 33301)
SUMMARY: Broward Chapter: Legislative Update
DESCRIPTION: \nJoin us as Jason Harrell of FICPA presents a Legislative Update offering CPAs timely insights on recent policy changes\, regulatory developments\, and issues shaping the profession. Don’t miss this opportunity to stay informed and prepared\n \nA special thank you to J.P. Morgan Private Banking for sponsoring this event\n \n\n  \n \n  \n\n\nLegislative UpdateCredit(s) and Type: 2 Technical BusinessSpeaker Name: Jason Harrell\, Chief External Affairs Officer\n  \nJason Harrell is the FICPA Chief External Affairs Officer responsible for leading all aspects of the Institute’s public policy\, advocacy\, governmental affairs and regulatory affairs. He serves as the liaison to the DBPR and Board of Accountancy and is responsible for all advocacy-related external communications and campaigns to increase the value of the CPA license\n \n\n\nMember Cost $15 Non Member Cost $25\n  \n \n  \nMeal Description Breakfast will be provided \n  \nRegister OnlineClick "Add to Cart" button below\n \nRegister by PhoneCall Member Services at (800) 342-3197\n 
CLASS:PUBLIC
END:VEVENT
END:VCALENDAR
