BEGIN:VCALENDAR
VERSION:2.0
PRODID:
BEGIN:VEVENT
UID:594074kak
DTSTAMP:20260425T111108Z
DTSTART:20260827T120000Z
DTEND:20260827T211500Z
LOCATION: **Online**
SUMMARY: Member Appreciation Day 2026: A Benefit of Belonging
DESCRIPTION: \n  \n  \n \n  \nMember Appreciation Day: A Benefit of Belonging August 27\, 20268 a.m. – 5:15 p.m. (Lunch break from 12 – 1 p.m.) Earn up to 8 hours of CPE.  Join us for a full-day of FREE virtual CPE featuring 8 hours of high-impact education designed specifically for you. Choose from timely\, practical sessions led by expert speakers covering the issues CPAs are facing right now in the technology\, audit\, tax\, ethics\, and leadership space. Learn\, earn FREE CPE\, and stay ahead of the profession\, all from the convenience of your desk.\n  \nAgenda:   Welcome and a word from FICPA President &amp\; CEO: 8 - 8:10 am   Session 1: 8:10 - 9:00 am   Session 2: 9:15: 10:05 am   Session 3: 10:20 - 11:10 am   Session 4: 11:10 - 12:00 pm   Lunch Break: 12:00 - 1:00 pm   Session 5: 1:05 - 1:55 pm   Session 6: 2:10 - 3:00 pm   Session 7: 3:15 - 4:05 pm   Session 8: 4:20 - 5:10 pm    Closing 5:10 - 5:15 pm\n  \nCheck back soon for more session details! \n  \nMembers will leave having:    • Gained knowledge from industry leaders and subject matter experts through engaging presentations.    • Participated in sessions that will equip them with practical tools and techniques to apply in their professional  and personal lives.    • Connected with and shared experiences through the online chat feature.    • Heard diverse opinions on current trends\, challenges\, and opportunities in the accounting industry.    • Real-time questions answered by experts\, ensuring you leave with actionable insights.    • Accessed a collection of resources and copies of presentations to support your ongoing learning journey. \n\nYou do not have to attend all 8 sessions and you can receive partial credit for the day. This free CPE is yours as a thank you for being a valued FICPA member.    Not a FICPA member? Join now to attend free. (<a href="https://www.ficpa.org/membership/benefits">Member Benefits - Florida Institute of CPAs</a>)\n  
CLASS:PUBLIC
END:VEVENT
END:VCALENDAR
