BEGIN:VCALENDAR
VERSION:2.0
PRODID:
BEGIN:VEVENT
UID:594072caw
DTSTAMP:20260422T182435Z
DTSTART:20260513T213000Z
DTEND:20260513T233000Z
LOCATION: Fogo de Chao Brazilian Steakhouse (Coral Gables\, 33134)
SUMMARY: Miami-Dade Chapter: Joint Networking Mixer: FICPA & CGBA
DESCRIPTION:             \n  \n\n\n\n\n\n\nConnect\, collaborate\, and expand your network at this exclusive mixer with the <a href="https://coralgablesbar.org/">Coral Gables Bar Association</a>. Join fellow professionals for an engaging evening at Fogo de Chão\, where you’ll enjoy a vibrant atmosphere and meaningful conversations.Guests will be treated to delicious small bites\, including traditional Brazilian favorites like pão de queijo (cheese bread)\, savory meat skewers\, and more.A special thank you to our sponsor\, GEMRT CPAs\, for making this event possible. Don’t miss this opportunity to build connections and strengthen relationships within the local professional community!\n  \n\n\n\n  \n\n\n\nMember Cost $15.00 Non Member/Guest Cost $30.00 \n  \nChapter ContactMike Wood<a>mwood@gemrtcpa.com</a> 305-529-5440 \n  \n\n \n  \nRegister OnlineClick "Add to Cart" button below\n \nRegister by PhoneCall Member Services at (850) 224-2727.\n  
CLASS:PUBLIC
END:VEVENT
END:VCALENDAR
