BEGIN:VCALENDAR
VERSION:2.0
PRODID:
BEGIN:VEVENT
UID:594064imp
DTSTAMP:20260421T104459Z
DTSTART:20261217T183000Z
DTEND:20261217T220000Z
LOCATION: **Online**
SUMMARY: Surgent's You've Got This: An Introduction to Yellow Book and Single Audits
DESCRIPTION: If you work with governments or not-for-profits\, mastering the fundamentals of Yellow Book and single audits is essential. This beginner-friendly course breaks down the key requirements of the Yellow Book and the Uniform Guidance for Federal Awards into clear\, manageable concepts. You'll learn the essentials of performing Yellow Book and single audits with confidence&mdash\;building a strong foundation\, boosting your understanding\, and equipping you to conduct audits efficiently and effectively.
CLASS:PUBLIC
END:VEVENT
END:VCALENDAR
