BEGIN:VCALENDAR
VERSION:2.0
PRODID:
BEGIN:VEVENT
UID:594051imp
DTSTAMP:20260423T060724Z
DTSTART:20270217T150000Z
DTEND:20270217T170000Z
LOCATION: **Online**
SUMMARY: Surgent's Where To Live in Retirement
DESCRIPTION: Deciding where to live in retirement is a challenge that involves a multitude of factors that differ for everyone. Each person and couple should evaluate their current living situation to see where their goals and lifestyles in retirement can best be met. The program covers the various factors that most people should consider when thinking about where to spend their retirement years.
CLASS:PUBLIC
END:VEVENT
END:VCALENDAR
