BEGIN:VCALENDAR
VERSION:2.0
PRODID:
BEGIN:VEVENT
UID:593981imp
DTSTAMP:20260422T010255Z
DTSTART:20260521T140000Z
DTEND:20260521T160000Z
LOCATION: **Online**
SUMMARY: Surgent's Workplace Harassment: How to Prevent Harassment and Reduce Liability Risks in Today's Changing Environment
DESCRIPTION: Workplace harassment &mdash\; especially sexual harassment &mdash\; has dominated headlines in the last several years.  With discussions of workplace harassment in the news\, employees better understand their rights and feel more empowered to speak out\, and the standard of appropriate workplace conduct is changing. With workplace harassment claims continuing to be filed at a steady pace with the United States Equal Employment Opportunity Commission\, state agencies\, and the courts\, it is more important than ever to understand how to prevent and avoid harassment in the workplace.
CLASS:PUBLIC
END:VEVENT
END:VCALENDAR
