BEGIN:VCALENDAR
VERSION:2.0
PRODID:
BEGIN:VEVENT
UID:593875imp
DTSTAMP:20260420T091706Z
DTSTART:20261008T180000Z
DTEND:20261008T200000Z
LOCATION: **Online**
SUMMARY: Surgent's Tax Research
DESCRIPTION: Answering clients' tax questions accurately and on time is a key challenge for tax practitioners. Through simple\, plain language explanations and examples\, this course will help practitioners perform tax research more efficiently by describing the structure of the primary sources\, highlighting the differences between primary and secondary sources\, and detailing the steps in the tax research process.
CLASS:PUBLIC
END:VEVENT
END:VCALENDAR
