BEGIN:VCALENDAR
VERSION:2.0
PRODID:
BEGIN:VEVENT
UID:593812imp
DTSTAMP:20260422T172651Z
DTSTART:20261009T140000Z
DTEND:20261009T160000Z
LOCATION: **Online**
SUMMARY: Surgent's Tax Research - Intermediate Concepts
DESCRIPTION: Answering clients' tax questions accurately and on time is a key challenge for tax practitioners. Through simple\, plain language explanations and examples\, this course will help practitioners perform tax research more efficiently by describing the structure of the primary sources\, highlighting the difference between primary and secondary sources\, and describing the steps in the tax research process.
CLASS:PUBLIC
END:VEVENT
END:VCALENDAR
