BEGIN:VCALENDAR
VERSION:2.0
PRODID:
BEGIN:VEVENT
UID:593654imp
DTSTAMP:20260424T061528Z
DTSTART:20270310T140000Z
DTEND:20270310T173000Z
LOCATION: **Online**
SUMMARY: Surgent's Successful Communication
DESCRIPTION: Technology has created numerous ways for us to communicate with each other - but it's also increased the number of ways in which the message can get garbled. Effective communications skills are crucial to successful management. Learn how to control your message with clear communications strategies. You'll learn to recognize communication barriers\, assess styles and behaviors\, and learn how to listen more effectively as well.
CLASS:PUBLIC
END:VEVENT
END:VCALENDAR
