BEGIN:VCALENDAR
VERSION:2.0
PRODID:
BEGIN:VEVENT
UID:593644imp
DTSTAMP:20260419T180437Z
DTSTART:20261130T150000Z
DTEND:20261130T230000Z
LOCATION: **Online**
SUMMARY: Surgent's Advanced Individual Income Tax Return Issues
DESCRIPTION: Most accounting and financial professionals have been preparing individual income tax returns for years\, and while many of the returns are easy\, there are always a number of issues that come up in busy season of which experienced practitioners wish they had more knowledge. This course is designed to explore the tough tax issues for experienced practitioners and help them provide better planning strategies and results for their higher income clients.
CLASS:PUBLIC
END:VEVENT
END:VCALENDAR
