BEGIN:VCALENDAR
VERSION:2.0
PRODID:
BEGIN:VEVENT
UID:593598imp
DTSTAMP:20260421T091123Z
DTSTART:20261021T140000Z
DTEND:20261021T160000Z
LOCATION: **Online**
SUMMARY: Surgent's System and Organization Controls (SOC) Engagements
DESCRIPTION: In today's interconnected world\, safeguarding information systems is crucial. This course will provide a comprehensive understanding of SOC engagements\, exploring the types of reports (SOC 1&reg\;\, SOC 2&reg\;\, and SOC 3&reg\;) and the related management assertions. The use of the reports for internal controls over financial reporting (ICFR) and operations and compliance will be analyzed. This course equips accounting professionals with the knowledge to effectively lead in compliance reporting.
CLASS:PUBLIC
END:VEVENT
END:VCALENDAR
