BEGIN:VCALENDAR
VERSION:2.0
PRODID:
BEGIN:VEVENT
UID:593556imp
DTSTAMP:20260421T032257Z
DTSTART:20261221T180000Z
DTEND:20261221T200000Z
LOCATION: **Online**
SUMMARY: Surgent's Update on the SECURE 2.0 Act
DESCRIPTION: This course provides a comprehensive analysis of the SECURE 2.0 Act (Act) that includes key provisions of the Act available for implementation in 2025. The principal focus of the Act was to expand retirement coverage and increase retirement savings. As such\, the Act included many important changes relating to IRAs and qualified plans. This legislation alters the landscape of retirement planning for taxpayers of all ages. Make sure you are up to date with the latest information relating to these changes in order to effectively advise your clients on these important provisions.
CLASS:PUBLIC
END:VEVENT
END:VCALENDAR
