BEGIN:VCALENDAR
VERSION:2.0
PRODID:
BEGIN:VEVENT
UID:593538imp
DTSTAMP:20260420T202338Z
DTSTART:20260528T130000Z
DTEND:20260528T210000Z
LOCATION: **Online**
SUMMARY: Surgent's Securing a Comfortable Retirement in the Age of Spending
DESCRIPTION: This course gives CPAs the knowledge to help their clients plan for retirement by evaluating how much retirement income will be required and strategizing about how to reach retirement goals.
CLASS:PUBLIC
END:VEVENT
END:VCALENDAR
