BEGIN:VCALENDAR
VERSION:2.0
PRODID:
BEGIN:VEVENT
UID:593505imp
DTSTAMP:20260419T193634Z
DTSTART:20261202T140000Z
DTEND:20261202T173000Z
LOCATION: **Online**
SUMMARY: Surgent's S Corporation Taxation: Advanced Issues
DESCRIPTION: This course goes beyond the basics and addresses important practical issues that an experienced practitioner must know about S corporations.
CLASS:PUBLIC
END:VEVENT
END:VCALENDAR
