BEGIN:VCALENDAR
VERSION:2.0
PRODID:
BEGIN:VEVENT
UID:593420imp
DTSTAMP:20260421T091719Z
DTSTART:20261020T180000Z
DTEND:20261020T200000Z
LOCATION: **Online**
SUMMARY: Surgent's Real Estate for Accounting and Finance Professionals
DESCRIPTION: Explore the intricacies of federal income taxation as it intertwines with rental real estate activities. This course delves into the calculation of rental income\, understanding the nuances of deductions\, and unraveling the complexities of passive activity loss rules. Whether it's mastering Schedule E or understanding Congress' intent behind tax laws\, professionals will leave with an enriched understanding.
CLASS:PUBLIC
END:VEVENT
END:VCALENDAR
