BEGIN:VCALENDAR
VERSION:2.0
PRODID:
BEGIN:VEVENT
UID:593370imp
DTSTAMP:20260419T180352Z
DTSTART:20261130T190000Z
DTEND:20261130T210000Z
LOCATION: **Online**
SUMMARY: Surgent's How to Effectively Represent Clients Under IRS Audit
DESCRIPTION: Increased funding resulting from the enactment of the Inflation Reduction Act will allow the IRS to target many more wealthy individuals and large businesses for audit. These efforts will become more intense over the next several years as the IRS employs artificial intelligence in more of its audits. This program discusses how and when the IRS's energized audit efforts will result in more audits of taxpayers and what attendees need to know to effectively represent clients that the IRS audits.
CLASS:PUBLIC
END:VEVENT
END:VCALENDAR
