BEGIN:VCALENDAR
VERSION:2.0
PRODID:
BEGIN:VEVENT
UID:593356imp
DTSTAMP:20260422T182606Z
DTSTART:20260624T170000Z
DTEND:20260624T190000Z
LOCATION: **Online**
SUMMARY: Surgent's The Road Ahead: Critical OBBBA Changes Impacting Accounting and Finance Professionals
DESCRIPTION: It is important for accounting and finance practitioners to help their clients understand and apply the many new provisions of OBBBA. Many of these changes are effective for the 2025 tax year and beyond. This program is an introduction to and review of some of these critical changes and their impact on taxpayers. 

This program is a two-hour review and analysis of what we consider some of the most current and important changes from the OBBBA. If you want the latest OBBBA information to relay to your clients\, this course is for you.
CLASS:PUBLIC
END:VEVENT
END:VCALENDAR
