BEGIN:VCALENDAR
VERSION:2.0
PRODID:
BEGIN:VEVENT
UID:593282imp
DTSTAMP:20260421T203231Z
DTSTART:20270210T160000Z
DTEND:20270210T180000Z
LOCATION: **Online**
SUMMARY: Surgent's Purchase and Sale of a Residence: Critical Tax Issues
DESCRIPTION: Many clients end up selling one or more residences during their lifetimes. Accounting and finance professionals must be aware of the tax rules that relate to such sales in order to assist their clients regarding these sales. This program provides accounting and finance professionals with the tax rules they need to know to help their clients when they sell a personal residence. This program is a comprehensive survey of the various tax issues associated with the sale of a residence.
CLASS:PUBLIC
END:VEVENT
END:VCALENDAR
