BEGIN:VCALENDAR
VERSION:2.0
PRODID:
BEGIN:VEVENT
UID:593262imp
DTSTAMP:20260421T195843Z
DTSTART:20270405T173000Z
DTEND:20270405T210000Z
LOCATION: **Online**
SUMMARY: Surgent's Project Management: Tips\, Tricks\, and Traps
DESCRIPTION: Recent economic\, societal\, and political changes have shown us the need for numerous projects and the need to manage those projects in a unique way. Project management is a way of thinking highly recognized and practiced by large organizations\, but often neglected by the smallest companies and entrepreneurs. This course quickly discusses the basics of project management thought and practice and then spends the majority of the time exploring some of the greatest mistakes that can be made\, the ways to avoid them\, and some of the tricks that have been introduced into the discipline. In the program we will explore some of the specific types of project management as well as some of the available software programs to make the task of project management easier.
CLASS:PUBLIC
END:VEVENT
END:VCALENDAR
