BEGIN:VCALENDAR
VERSION:2.0
PRODID:
BEGIN:VEVENT
UID:593223imp
DTSTAMP:20260421T103329Z
DTSTART:20270312T180000Z
DTEND:20270312T200000Z
LOCATION: **Online**
SUMMARY: Surgent's Progressive Discipline and Termination
DESCRIPTION: Employee discipline is always challenging. Training on proper progressive discipline is critical to avoiding potential lawsuits while also trying to bring out the best possible employee performance. This webinar is designed to assist human resources professionals and managers in understanding the best ways to use progressive discipline as both a management and risk reduction tool. The webinar also will address best practices with regard to the employee termination process.
CLASS:PUBLIC
END:VEVENT
END:VCALENDAR
