BEGIN:VCALENDAR
VERSION:2.0
PRODID:
BEGIN:VEVENT
UID:593126imp
DTSTAMP:20260421T112858Z
DTSTART:20270202T183000Z
DTEND:20270202T220000Z
LOCATION: **Online**
SUMMARY: Surgent's Navigating Your Client Through the IRS Appeals Process
DESCRIPTION: Despite the fact that a client's tax matter may be taken directly to court\, utilizing the IRS Independent Office of Appeals usually results in saving your client both time and money. Join us as we discuss the misunderstood process of navigating through the complex IRS Appeals.
CLASS:PUBLIC
END:VEVENT
END:VCALENDAR
