BEGIN:VCALENDAR
VERSION:2.0
PRODID:
BEGIN:VEVENT
UID:593096imp
DTSTAMP:20260421T104645Z
DTSTART:20261028T170000Z
DTEND:20261028T190000Z
LOCATION: **Online**
SUMMARY: Surgent's The Accounting Leaders' Survival Guide - Strategies for Managing Organizational Change
DESCRIPTION: Our country and our accounting methods have undergone huge changes in the previous few years\, most of it challenging. Individuals and entire businesses have been left reeling by new tax regulations\, doing more with less\, and employment restructuring. Organizations must adjust quickly\; notwithstanding how painful these changes have been. This course instructs accounting managers on how to deal with change and stress in the workplace. Before it affects them in a negative way\, the accounting professional will learn how to best manage the changing work environment and the stress that comes with it. "The first wealth is health\," remarked Ralph Waldo Emerson\, but for many of us\, stressful jobs are putting our health at jeopardy.
CLASS:PUBLIC
END:VEVENT
END:VCALENDAR
