BEGIN:VCALENDAR
VERSION:2.0
PRODID:
BEGIN:VEVENT
UID:593060imp
DTSTAMP:20260422T210738Z
DTSTART:20261123T183000Z
DTEND:20261123T220000Z
LOCATION: **Online**
SUMMARY: Surgent's Management Fundamentals
DESCRIPTION: In a recent Gallup study\, 50% of respondents quit because of their manager\, which makes your managers and supervisors your company's first line of defense against costly turnover. This program looks at management from a broad perspective and then drills down into key skills needed to manage effectively.
CLASS:PUBLIC
END:VEVENT
END:VCALENDAR
