BEGIN:VCALENDAR
VERSION:2.0
PRODID:
BEGIN:VEVENT
UID:593036imp
DTSTAMP:20260419T180353Z
DTSTART:20261127T150000Z
DTEND:20261127T170000Z
LOCATION: **Online**
SUMMARY: Surgent's Leveraging AI for Data Analytics in Accounting
DESCRIPTION: This course explores the data analytics aspects of AI in accounting. Participants will develop skills in leveraging AI tools for enhanced data analytics.
CLASS:PUBLIC
END:VEVENT
END:VCALENDAR
