BEGIN:VCALENDAR
VERSION:2.0
PRODID:
BEGIN:VEVENT
UID:593033imp
DTSTAMP:20260420T195258Z
DTSTART:20260724T140000Z
DTEND:20260724T160000Z
LOCATION: **Online**
SUMMARY: Surgent's Leveraging AI for Data Analytics in Accounting
DESCRIPTION: This course explores the data analytics aspects of AI in accounting. Participants will develop skills in leveraging AI tools for enhanced data analytics.
CLASS:PUBLIC
END:VEVENT
END:VCALENDAR
