BEGIN:VCALENDAR
VERSION:2.0
PRODID:
BEGIN:VEVENT
UID:592954imp
DTSTAMP:20260422T033947Z
DTSTART:20270212T200000Z
DTEND:20270212T220000Z
LOCATION: **Online**
SUMMARY: Surgent's IT Systems and Data Management
DESCRIPTION: Explore the critical intersections between information technology (IT) systems and data management through this specialized CPE course for accounting professionals. This session covers business resiliency and disaster recovery strategies\, change management processes\, and much more. Through interactive discussions and hands-on activities\, participants will learn how to enhance their organization's IT framework while ensuring robust data collection and storage. Equip yourself to oversee IT systems with confidence and reinforce data integrity and system availability.
CLASS:PUBLIC
END:VEVENT
END:VCALENDAR
