BEGIN:VCALENDAR
VERSION:2.0
PRODID:
BEGIN:VEVENT
UID:592890imp
DTSTAMP:20260423T085822Z
DTSTART:20270427T130000Z
DTEND:20270427T210000Z
LOCATION: **Online**
SUMMARY: Surgent's Employer's Handbook: Legal\, Tax\, and Health Care Issues
DESCRIPTION: The employer-employee relationship strains both sides in uncertain times\, and businesses need CPAs\, controllers\, and other advisors to provide understanding of the complex legal\, tax\, and health care issues associated with all aspects of employment. This course provides in-depth coverage of this critical area. It will be updated and supplemented throughout the year to cover breaking developments.
CLASS:PUBLIC
END:VEVENT
END:VCALENDAR
