BEGIN:VCALENDAR
VERSION:2.0
PRODID:
BEGIN:VEVENT
UID:592889imp
DTSTAMP:20260419T193849Z
DTSTART:20261201T140000Z
DTEND:20261201T220000Z
LOCATION: **Online**
SUMMARY: Surgent's Employer's Handbook: Legal\, Tax\, and Health Care Issues
DESCRIPTION: The employer-employee relationship strains both sides in uncertain times\, and businesses need CPAs\, controllers\, and other advisors to provide understanding of the complex legal\, tax\, and health care issues associated with all aspects of employment. This course provides in-depth coverage of this critical area. It will be updated and supplemented throughout the year to cover breaking developments.
CLASS:PUBLIC
END:VEVENT
END:VCALENDAR
