BEGIN:VCALENDAR
VERSION:2.0
PRODID:
BEGIN:VEVENT
UID:592850imp
DTSTAMP:20260422T035508Z
DTSTART:20270217T140000Z
DTEND:20270217T173000Z
LOCATION: **Online**
SUMMARY: Surgent's Employer's Handbook: Health Care\, Retirement\, and Fringe Benefit Tax Issues
DESCRIPTION: The employer-employee relationship strains both sides in uncertain times\, and businesses need CPAs\, controllers\, and other advisors to provide understanding of the complex legal\, tax\, and health care issues associated with all aspects of employment. This course provides in-depth coverage of this critical area.
CLASS:PUBLIC
END:VEVENT
END:VCALENDAR
