BEGIN:VCALENDAR
VERSION:2.0
PRODID:
BEGIN:VEVENT
UID:592827imp
DTSTAMP:20260420T211051Z
DTSTART:20260623T180000Z
DTEND:20260623T200000Z
LOCATION: **Online**
SUMMARY: Surgent's IT Governance and Risk Management
DESCRIPTION: This course covers the key components of IT governance and risk management through interactive discussions and hands-on activities.  By the end of the course\, participants will have a thorough understanding of the function of IT governance within an organization\, including roles and responsibilities and key frameworks. In addition\, participants will learn about IT risk identification and assessment methods and IT general and application controls. Business process management and change management will also be discussed.
CLASS:PUBLIC
END:VEVENT
END:VCALENDAR
