BEGIN:VCALENDAR
VERSION:2.0
PRODID:
BEGIN:VEVENT
UID:592792imp
DTSTAMP:20260425T013205Z
DTSTART:20270325T140000Z
DTEND:20270325T160000Z
LOCATION: **Online**
SUMMARY: Surgent's A Guide to Gig Economy Tax Issues
DESCRIPTION: The IRS defines the "gig economy" as people earning income providing on-demand work\, services\, or goods on either a part-time or full-time basis. The economic times we live in are changing\, and accounting and finance professionals must learn how the rules apply in this new gig economy. The tax rules that apply to gig workers challenge traditional ideas of who is an employee and who is an independent contractor\, and accounting and finance professionals must have the knowledge to make this determination. This program addresses federal and state tax issues accounting and finance professionals must address with clients and their own workers.
CLASS:PUBLIC
END:VEVENT
END:VCALENDAR
