BEGIN:VCALENDAR
VERSION:2.0
PRODID:
BEGIN:VEVENT
UID:592744imp
DTSTAMP:20260420T231638Z
DTSTART:20260611T130000Z
DTEND:20260611T163000Z
LOCATION: **Online**
SUMMARY: Surgent's Four Tiers of Loss Limitations: A Guide to the Rules for Pass-Through Entities
DESCRIPTION: Owners of S corporations and partnerships are subject to numerous limitations on pass-through losses\, each with unique rules\, applications\, and complexities. With the increase in popularity of pass-through business entities\, it is essential for CPAs to understand the complexities and interactions of these pass-through loss limitations.
CLASS:PUBLIC
END:VEVENT
END:VCALENDAR
