BEGIN:VCALENDAR
VERSION:2.0
PRODID:
BEGIN:VEVENT
UID:592734imp
DTSTAMP:20260421T092808Z
DTSTART:20261021T173000Z
DTEND:20261021T210000Z
LOCATION: **Online**
SUMMARY: Surgent's Fraud In Single Audits
DESCRIPTION: With all the planning\, procedures\, and reporting involved in a single audit\, sometimes things can slip through the cracks. But what if the thing that slips through is fraud? Compiled from news releases\, court records\, and the thrilling annals of the Federal Audit Clearinghouse\, this course tells the tale of seven real-world frauds that seemingly dodged detection in the single audit process. Leveraging the incredible gift of hindsight\, this course is designed to raise your awareness and sharpen your focus on the potential for fraud in single audits!
CLASS:PUBLIC
END:VEVENT
END:VCALENDAR
