BEGIN:VCALENDAR
VERSION:2.0
PRODID:
BEGIN:VEVENT
UID:592695imp
DTSTAMP:20260421T091500Z
DTSTART:20260723T130000Z
DTEND:20260723T210000Z
LOCATION: **Online**
SUMMARY: Surgent's Perplexing Financial and Economic Issues for the CFO/Controller
DESCRIPTION: For CFOs and Controllers\, the emergence of regulatory\, fiscal\, and monetary policy directly impacting their organizations' costs\, competitiveness\, and financing options\, are causing them to understand the effect of shocks well outside of their control. The Dodd-Frank Act\, health care reform\, shortfalls in Social Security\, unfunded pension liabilities\, and deficit spending will all be explored relative to their impact on the CFO/Controller and your organization.
CLASS:PUBLIC
END:VEVENT
END:VCALENDAR
