BEGIN:VCALENDAR
VERSION:2.0
PRODID:
BEGIN:VEVENT
UID:592642imp
DTSTAMP:20260425T013025Z
DTSTART:20270324T160000Z
DTEND:20270324T180000Z
LOCATION: **Online**
SUMMARY: Surgent's Excel Tables and Conditional Summing
DESCRIPTION: In this webinar we will explore the powerful concept of splitting data from reports and dig into the mechanics that enable this technique. The key feature discussed is the Tables feature\, and the key function discussed is the multiple-condition summing function. We will illustrate these items in a variety of ways\, including building crosstab style reports and mapping tables.
CLASS:PUBLIC
END:VEVENT
END:VCALENDAR
