BEGIN:VCALENDAR
VERSION:2.0
PRODID:
BEGIN:VEVENT
UID:592639imp
DTSTAMP:20260421T091023Z
DTSTART:20261109T180000Z
DTEND:20261109T200000Z
LOCATION: **Online**
SUMMARY: Surgent's Excel Tables and Conditional Summing
DESCRIPTION: In this webinar we will explore the powerful concept of splitting data from reports and dig into the mechanics that enable this technique. The key feature discussed is the Tables feature\, and the key function discussed is the multiple-condition summing function. We will illustrate these items in a variety of ways\, including building crosstab style reports and mapping tables.
CLASS:PUBLIC
END:VEVENT
END:VCALENDAR
