BEGIN:VCALENDAR
VERSION:2.0
PRODID:
BEGIN:VEVENT
UID:592623imp
DTSTAMP:20260422T033947Z
DTSTART:20270216T180000Z
DTEND:20270216T200000Z
LOCATION: **Online**
SUMMARY: Surgent's Excel: Mastering PivotTables
DESCRIPTION: PivotTable is a fancy term for an Excel report that summarizes data. If you have not yet had the good fortune of exploring PivotTables\, it is about time. In this session\, we'll dig into PivotTables\, understand the report layout options\, and examine PivotTable formulas.
CLASS:PUBLIC
END:VEVENT
END:VCALENDAR
