BEGIN:VCALENDAR
VERSION:2.0
PRODID:
BEGIN:VEVENT
UID:592597imp
DTSTAMP:20260419T180352Z
DTSTART:20261128T180000Z
DTEND:20261128T200000Z
LOCATION: **Online**
SUMMARY: Surgent's A Complete Tax Guide to Exit Planning
DESCRIPTION: When exit planning\, it is important to weigh various issues\, including tax implications\, to achieve an effective management and/or ownership change. Many envision tax-free reorganizations being the most preferable structure to avoid capital gains tax\, but the opportunities come at a cost to the seller. This course will provide a well-rounded discussion of the various strategies to consider when advising on exiting a business.
CLASS:PUBLIC
END:VEVENT
END:VCALENDAR
