BEGIN:VCALENDAR
VERSION:2.0
PRODID:
BEGIN:VEVENT
UID:592475imp
DTSTAMP:20260420T010955Z
DTSTART:20270304T183000Z
DTEND:20270304T220000Z
LOCATION: **Online**
SUMMARY: Surgent's Basics of Employment Law for Non-HR Professionals
DESCRIPTION: Learn the basics of employment law and how they affect best practices to help control the interview and discover hidden talents of applicants.
CLASS:PUBLIC
END:VEVENT
END:VCALENDAR
