BEGIN:VCALENDAR
VERSION:2.0
PRODID:
BEGIN:VEVENT
UID:592391imp
DTSTAMP:20260420T083411Z
DTSTART:20270219T170000Z
DTEND:20270219T190000Z
LOCATION: **Online**
SUMMARY: Surgent's The Art of Delegation: Strategies for Improving Your Skills
DESCRIPTION: One of the most challenging skills for a manager or supervisor to master is delegation. This course will cover a variety of delegation-related topics and provide participants with the necessary knowledge and skills to delegate work and authority effectively.
CLASS:PUBLIC
END:VEVENT
END:VCALENDAR
