BEGIN:VCALENDAR
VERSION:2.0
PRODID:
BEGIN:VEVENT
UID:592355imp
DTSTAMP:20260426T033357Z
DTSTART:20261221T180000Z
DTEND:20261221T200000Z
LOCATION: **Online**
SUMMARY: Surgent's Cybersecurity Risk Management for Financial Professionals: Policies\, Controls\, and Emerging Threats
DESCRIPTION: This course focuses on implementing cybersecurity policies\, controls\, and risk management strategies tailored to financial environments. It emphasizes practical applications to mitigate threats and highlights global compliance standards\, particularly their relevance and applicability to U.S. organizations.
CLASS:PUBLIC
END:VEVENT
END:VCALENDAR
