BEGIN:VCALENDAR
VERSION:2.0
PRODID:
BEGIN:VEVENT
UID:592352imp
DTSTAMP:20260424T232609Z
DTSTART:20270331T130000Z
DTEND:20270331T150000Z
LOCATION: **Online**
SUMMARY: Surgent's Generative AI and Cybersecurity: Opportunities and Threats
DESCRIPTION: This course explores how generative AI is revolutionizing cybersecurity. It highlights opportunities\, such as enhanced threat detection\, and risks\, including AI-driven phishing and malware\, particularly in financial contexts.
CLASS:PUBLIC
END:VEVENT
END:VCALENDAR
