BEGIN:VCALENDAR
VERSION:2.0
PRODID:
BEGIN:VEVENT
UID:592349imp
DTSTAMP:20260423T073949Z
DTSTART:20260930T180000Z
DTEND:20260930T200000Z
LOCATION: **Online**
SUMMARY: Surgent's Generative AI and Cybersecurity: Opportunities and Threats
DESCRIPTION: This course explores how generative AI is revolutionizing cybersecurity. It highlights opportunities\, such as enhanced threat detection\, and risks\, including AI-driven phishing and malware\, particularly in financial contexts.
CLASS:PUBLIC
END:VEVENT
END:VCALENDAR
