BEGIN:VCALENDAR
VERSION:2.0
PRODID:
BEGIN:VEVENT
UID:592341imp
DTSTAMP:20260421T092808Z
DTSTART:20261231T140000Z
DTEND:20261231T160000Z
LOCATION: **Online**
SUMMARY: Surgent's Incident Response and Case Studies in AI-powered Cybersecurity
DESCRIPTION: This course emphasizes the practical application of incident response frameworks through case studies of AI-related cyber incidents. It focuses on preparing financial professionals to effectively manage and learn from cybersecurity crises.
CLASS:PUBLIC
END:VEVENT
END:VCALENDAR
