BEGIN:VCALENDAR
VERSION:2.0
PRODID:
BEGIN:VEVENT
UID:592340imp
DTSTAMP:20260421T091425Z
DTSTART:20261110T150000Z
DTEND:20261110T170000Z
LOCATION: **Online**
SUMMARY: Surgent's Incident Response and Case Studies in AI-powered Cybersecurity
DESCRIPTION: This course emphasizes the practical application of incident response frameworks through case studies of AI-related cyber incidents. It focuses on preparing financial professionals to effectively manage and learn from cybersecurity crises.
CLASS:PUBLIC
END:VEVENT
END:VCALENDAR
