BEGIN:VCALENDAR
VERSION:2.0
PRODID:
BEGIN:VEVENT
UID:592331imp
DTSTAMP:20260421T104454Z
DTSTART:20261125T150000Z
DTEND:20261125T170000Z
LOCATION: **Online**
SUMMARY: Surgent's Unconscious Bias in the Workplace
DESCRIPTION: This interactive professional development course explores the concept of unconscious bias and its impact on workplace dynamics\, decision-making\, and organizational culture. Through engaging exercises\, real-world case studies\, and reflective activities\, participants will gain a deeper understanding of how implicit attitudes shape perceptions and behaviors &mdash\; often without conscious awareness. The course empowers learners to recognize their own biases\, understand their origins\, and develop strategies to mitigate their effects in professional settings. Participants will leave with actionable tools to foster a more inclusive\, equitable\, and respectful workplace.
CLASS:PUBLIC
END:VEVENT
END:VCALENDAR
