BEGIN:VCALENDAR
VERSION:2.0
PRODID:
BEGIN:VEVENT
UID:592242imp
DTSTAMP:20260421T103511Z
DTSTART:20260626T170000Z
DTEND:20260626T190000Z
LOCATION: **Online**
SUMMARY: Surgent's Guide to Partner Capital Account Reporting
DESCRIPTION: Accounting and finance professionals are responsible for presenting partner capital accounts on the tax basis. But what does this mean and how have rules changed in recent years regarding partner capital accounts? This webinar covers exactly that. For accounting and finance professionals preparing partnership 1065 forms\, this course explains these complex rules in practical and understandable terms.
CLASS:PUBLIC
END:VEVENT
END:VCALENDAR
