BEGIN:VCALENDAR
VERSION:2.0
PRODID:
BEGIN:VEVENT
UID:592198imp
DTSTAMP:20260421T104500Z
DTSTART:20261103T190000Z
DTEND:20261103T210000Z
LOCATION: **Online**
SUMMARY: Surgent's Mastering Client Management for Accounting and Finance Professionals
DESCRIPTION: Do you want to build stronger relationships with your clients\, improve client retention\, and drive growth in your practice? This course delves into the essential strategies for effective client management in today's competitive landscape.

Client relationships\, like any relationship\, can be challenging to manage. Miscommunication\, differing work styles\, and unrealistic expectations are some of the challenges accounting and finance professionals routinely encounter. However\, when accounting clients and members of your team are on the same page\, client loyalty and profitability improve while conflict is minimized. This webinar explores proven strategies to improve relationships between accounting and finance professionals and their clients.
CLASS:PUBLIC
END:VEVENT
END:VCALENDAR
